BEGIN:VCALENDAR
VERSION:2.0
PRODID:-//AnandChowdhary//calendar-link//EN
BEGIN:VEVENT
DTSTART:20260429T200000Z
DTEND:20260429T210000Z
DTSTAMP:20260327T142750Z
SUMMARY:Medinfar Skin Academy
DESCRIPTION:https://skinacademy.pt/
UID:48429
END:VEVENT
END:VCALENDAR
